BEGIN:VCALENDAR
METHOD:PUBLISH
PRODID:-//Weblication CMS
VERSION:2.0
BEGIN:VEVENT
SUMMARY:Gottesdienst Leuzigen
DTSTART:20260830T093000
DESCRIPTION:
LOCATION:Kirche Leuzigen
UID:https://kirche-arch.ch/de/veranstaltungen/termine/2026.08.30-gottesdienst.php?uid=29ba3f64ae89e26f60ffaebfb7dd8744
URL:https://kirche-arch.ch/de/veranstaltungen/termine/2026.08.30-gottesdienst.php
END:VEVENT
END:VCALENDAR