BEGIN:VCALENDAR
METHOD:PUBLISH
PRODID:-//Weblication CMS
VERSION:2.0
BEGIN:VEVENT
SUMMARY:Gottesdienst Arch
DTSTART:20261231T224500
DESCRIPTION:Silvester gilt zugleich als ökumenisches Abendgebet
LOCATION:Kirche Arch
UID:https://kirche-arch.ch/de/veranstaltungen/termine/2026.12.31-gottesdienst.php?uid=fa93b3a56fdac124b468ef2d16dbcd07
URL:https://kirche-arch.ch/de/veranstaltungen/termine/2026.12.31-gottesdienst.php
END:VEVENT
END:VCALENDAR