BEGIN:VCALENDAR
METHOD:PUBLISH
PRODID:-//Weblication CMS
VERSION:2.0
BEGIN:VEVENT
SUMMARY:Gottesdienst Leuzigen
DTSTART:20261225T170000
DESCRIPTION:
LOCATION:Kirche Leuzigen
UID:https://kirche-arch.ch/de/veranstaltungen/termine/2026.12.25-gottesdienst-l.php?uid=87def673959c68e836137329789f2145
URL:https://kirche-arch.ch/de/veranstaltungen/termine/2026.12.25-gottesdienst-l.php
END:VEVENT
END:VCALENDAR