BEGIN:VCALENDAR
METHOD:PUBLISH
PRODID:-//Weblication CMS
VERSION:2.0
BEGIN:VEVENT
SUMMARY:Gottesdienst Arch
DTSTART:20261225T100000
DESCRIPTION:Weinachten
LOCATION:Kirche Arch
UID:https://kirche-arch.ch/de/veranstaltungen/termine/2026.12.25-gottesdienst.php?uid=dfd624f591519706bf6fd7afc8ef315b
URL:https://kirche-arch.ch/de/veranstaltungen/termine/2026.12.25-gottesdienst.php
END:VEVENT
END:VCALENDAR