BEGIN:VCALENDAR
METHOD:PUBLISH
PRODID:-//Weblication CMS
VERSION:2.0
BEGIN:VEVENT
SUMMARY:Gottesdienst Arch
DTSTART:20261224T220000
DESCRIPTION:Heiligabend Mara Meier, Flöte
LOCATION:Kirche Arch
UID:https://kirche-arch.ch/de/veranstaltungen/termine/2026.12.24-gottesdienst.php?uid=35112d28a247213534bff8b869894fa5
URL:https://kirche-arch.ch/de/veranstaltungen/termine/2026.12.24-gottesdienst.php
END:VEVENT
END:VCALENDAR