BEGIN:VCALENDAR
METHOD:PUBLISH
PRODID:-//Weblication CMS
VERSION:2.0
BEGIN:VEVENT
SUMMARY:Gottesdienst Leuzigen
DTSTART:20261220T093000
DESCRIPTION:4. Advent
LOCATION:Kirche Leuzigen
UID:https://kirche-arch.ch/de/veranstaltungen/termine/2026.12.20-gottesdienst.php?uid=e8c4648c1496d2f959d6823222cabdb1
URL:https://kirche-arch.ch/de/veranstaltungen/termine/2026.12.20-gottesdienst.php
END:VEVENT
END:VCALENDAR