BEGIN:VCALENDAR
METHOD:PUBLISH
PRODID:-//Weblication CMS
VERSION:2.0
BEGIN:VEVENT
SUMMARY:Gottesdienst Leuzigen
DTSTART:20261213T170000
DESCRIPTION:KIK- Weinachten
LOCATION:Kirche Leuzigen
UID:https://kirche-arch.ch/de/veranstaltungen/termine/2026.12.13-gottesdienst.php?uid=7a0507c508b086f94004bca5d3cf2f9c
URL:https://kirche-arch.ch/de/veranstaltungen/termine/2026.12.13-gottesdienst.php
END:VEVENT
END:VCALENDAR