BEGIN:VCALENDAR
METHOD:PUBLISH
PRODID:-//Weblication CMS
VERSION:2.0
BEGIN:VEVENT
SUMMARY:Gottesdienst Arch
DTSTART:20261212T170000
DESCRIPTION:KIK- Weinachten
LOCATION:Kirche Arch
UID:https://kirche-arch.ch/de/veranstaltungen/termine/2026.12.12-gottesdienst.php?uid=44ce52ed2cf4c29cbfe46171eabd33d6
URL:https://kirche-arch.ch/de/veranstaltungen/termine/2026.12.12-gottesdienst.php
END:VEVENT
END:VCALENDAR