BEGIN:VCALENDAR
METHOD:PUBLISH
PRODID:-//Weblication CMS
VERSION:2.0
BEGIN:VEVENT
SUMMARY:Gottesdienst Arch
DTSTART:20260823T093000
DESCRIPTION:
LOCATION:Kirche Arch
UID:https://kirche-arch.ch/de/veranstaltungen/termine/2026.08.23-gottesdienst.php?uid=ad99a4e92565442c6ed0564110466212
URL:https://kirche-arch.ch/de/veranstaltungen/termine/2026.08.23-gottesdienst.php
END:VEVENT
END:VCALENDAR