BEGIN:VCALENDAR
METHOD:PUBLISH
PRODID:-//Weblication CMS
VERSION:2.0
BEGIN:VEVENT
SUMMARY:Gottesdienst Leuzigen
DTSTART:20261122T093000
DESCRIPTION:Ewigkeitssonntag und Kirch Gemeinde Versammlung
LOCATION:Kirche Leuzigen
UID:https://kirche-arch.ch/de/veranstaltungen/termine/2026.11.22-gottesdienst.php?uid=92d4543869ae9369ba424ca878d2597e
URL:https://kirche-arch.ch/de/veranstaltungen/termine/2026.11.22-gottesdienst.php
END:VEVENT
END:VCALENDAR