BEGIN:VCALENDAR
METHOD:PUBLISH
PRODID:-//Weblication CMS
VERSION:2.0
BEGIN:VEVENT
SUMMARY:Gottesdienst Leuzigen
DTSTART:20261108T093000
DESCRIPTION:
LOCATION:Kirche Leuzigen
UID:https://kirche-arch.ch/de/veranstaltungen/termine/2026.11.08-gottesdienst.php?uid=5632038d2eaea15e83816998811866cd
URL:https://kirche-arch.ch/de/veranstaltungen/termine/2026.11.08-gottesdienst.php
END:VEVENT
END:VCALENDAR