BEGIN:VCALENDAR
METHOD:PUBLISH
PRODID:-//Weblication CMS
VERSION:2.0
BEGIN:VEVENT
SUMMARY:Gottesdienst Arch
DTSTART:20261101T093000
DESCRIPTION:Reformationssonntag
LOCATION:Kirche Arch
UID:https://kirche-arch.ch/de/veranstaltungen/termine/2026.11.01-gottesdienst.php?uid=6c932db4cad86d6ffc7455683d583219
URL:https://kirche-arch.ch/de/veranstaltungen/termine/2026.11.01-gottesdienst.php
END:VEVENT
END:VCALENDAR