BEGIN:VCALENDAR
METHOD:PUBLISH
PRODID:-//Weblication CMS
VERSION:2.0
BEGIN:VEVENT
SUMMARY:Ökumenisches Abendgebet
DTSTART:20261029T190000
DESCRIPTION:
LOCATION:Katholische Kirche Büren an der Aare
UID:https://kirche-arch.ch/de/veranstaltungen/termine/2026.10.29-abendgebet.php?uid=23b25d2d8d46aaf38d96075321b03fc7
URL:https://kirche-arch.ch/de/veranstaltungen/termine/2026.10.29-abendgebet.php
END:VEVENT
END:VCALENDAR