BEGIN:VCALENDAR
METHOD:PUBLISH
PRODID:-//Weblication CMS
VERSION:2.0
BEGIN:VEVENT
SUMMARY:Gottesdienst Leuzigen
DTSTART:20261025T093000
DESCRIPTION:Kirchenkaffee Trachtengruppe Leuzigen
LOCATION:Kirche Leuzigen
UID:https://kirche-arch.ch/de/veranstaltungen/termine/2026.10.25-gottesdienst.php?uid=764bd4836daf21d3a596dd0553c231a1
URL:https://kirche-arch.ch/de/veranstaltungen/termine/2026.10.25-gottesdienst.php
END:VEVENT
END:VCALENDAR