BEGIN:VCALENDAR
METHOD:PUBLISH
PRODID:-//Weblication CMS
VERSION:2.0
BEGIN:VEVENT
SUMMARY:Gottesdienst im Altersheim
DTSTART:20261015T150000
DESCRIPTION:
LOCATION:Altersheim Lueg is Land
UID:https://kirche-arch.ch/de/veranstaltungen/termine/2026.10.15-gottesdienst-altersheim.php?uid=e884f880d2f0b0c44881aa39ddd284f8
URL:https://kirche-arch.ch/de/veranstaltungen/termine/2026.10.15-gottesdienst-altersheim.php
END:VEVENT
END:VCALENDAR