BEGIN:VCALENDAR
METHOD:PUBLISH
PRODID:-//Weblication CMS
VERSION:2.0
BEGIN:VEVENT
SUMMARY:Ökumenisches Abendgebt
DTSTART:20260924T190000
DESCRIPTION:
LOCATION:Kirche Arch
UID:https://kirche-arch.ch/de/veranstaltungen/termine/2026.09.24-abendgebet.php?uid=59cd909548bafa2e3d79f8f89a8212de
URL:https://kirche-arch.ch/de/veranstaltungen/termine/2026.09.24-abendgebet.php
END:VEVENT
END:VCALENDAR