BEGIN:VCALENDAR
METHOD:PUBLISH
PRODID:-//Weblication CMS
VERSION:2.0
BEGIN:VEVENT
SUMMARY:Gottesdienst Arch
DTSTART:20260920T200000
DESCRIPTION:Eidgenössischer Dank-, Buss- und Bettag
LOCATION:Kirche Arch
UID:https://kirche-arch.ch/de/veranstaltungen/termine/2026.09.20-gottesdienst-a.php?uid=f0b53a7df6b6cffbf7134ad2bfcedb54
URL:https://kirche-arch.ch/de/veranstaltungen/termine/2026.09.20-gottesdienst-a.php
END:VEVENT
END:VCALENDAR