BEGIN:VCALENDAR
METHOD:PUBLISH
PRODID:-//Weblication CMS
VERSION:2.0
BEGIN:VEVENT
SUMMARY:Gottesdienst im Altersheim
DTSTART:20260917T150000
DESCRIPTION:
LOCATION:Altersheim Lueg is Land
UID:https://kirche-arch.ch/de/veranstaltungen/termine/2026.09.17-gottesdienst-altersheim.php?uid=11c7496488f63cf99aefd387c9f83577
URL:https://kirche-arch.ch/de/veranstaltungen/termine/2026.09.17-gottesdienst-altersheim.php
END:VEVENT
END:VCALENDAR