BEGIN:VCALENDAR
METHOD:PUBLISH
PRODID:-//Weblication CMS
VERSION:2.0
BEGIN:VEVENT
SUMMARY:Gottesdienst Arch
DTSTART:20260726T093000
DESCRIPTION:
LOCATION:Kirche Arch
UID:https://kirche-arch.ch/de/veranstaltungen/termine/2026.07.26-gottesdienst.php?uid=57455261d9f9f2b7e967a43dcd4996e1
URL:https://kirche-arch.ch/de/veranstaltungen/termine/2026.07.26-gottesdienst.php
END:VEVENT
END:VCALENDAR