BEGIN:VCALENDAR
METHOD:PUBLISH
PRODID:-//Weblication CMS
VERSION:2.0
BEGIN:VEVENT
SUMMARY:Ökumenisches Abendgebet
DTSTART:20260827T000000
DESCRIPTION:
LOCATION:Kirche Oberwil
UID:https://kirche-arch.ch/de/veranstaltungen/termine/2026.08.27-abendgebet.php?uid=cbec29bacd59988ade696920ad9e8c43
URL:https://kirche-arch.ch/de/veranstaltungen/termine/2026.08.27-abendgebet.php
END:VEVENT
END:VCALENDAR