BEGIN:VCALENDAR
METHOD:PUBLISH
PRODID:-//Weblication CMS
VERSION:2.0
BEGIN:VEVENT
SUMMARY:Gottesdienst Leuzigen
DTSTART:20260816T100000
DESCRIPTION:Waldhaus Gottesdienst Musikgesellschaft AL
LOCATION:Waldhaus Leuzigen
UID:https://kirche-arch.ch/de/veranstaltungen/termine/2026.08.16-gottesdienst.php?uid=3183d34194fc4999bf29a2c86e475394
URL:https://kirche-arch.ch/de/veranstaltungen/termine/2026.08.16-gottesdienst.php
END:VEVENT
END:VCALENDAR