BEGIN:VCALENDAR
METHOD:PUBLISH
PRODID:-//Weblication CMS
VERSION:2.0
BEGIN:VEVENT
SUMMARY:Gottesdienst Arch
DTSTART:20260809T103000
DESCRIPTION:Tulpenbaum Gottesdienst  Lumina
LOCATION:Kirche Arch
UID:https://kirche-arch.ch/de/veranstaltungen/termine/2026.08.09-gottesdienst.php?uid=b354f52627bb751394a1faedbaf61018
URL:https://kirche-arch.ch/de/veranstaltungen/termine/2026.08.09-gottesdienst.php
END:VEVENT
END:VCALENDAR