BEGIN:VCALENDAR
METHOD:PUBLISH
PRODID:-//Weblication CMS
VERSION:2.0
BEGIN:VEVENT
SUMMARY:Gottesdienst Leuzigen
DTSTART:20260802T093000
DESCRIPTION:
LOCATION:Kirche Leuzigen
UID:https://kirche-arch.ch/de/veranstaltungen/termine/2026.08.02-gottesdienst.php?uid=0abe473eda26d1191ee0e88d5b2ce187
URL:https://kirche-arch.ch/de/veranstaltungen/termine/2026.08.02-gottesdienst.php
END:VEVENT
END:VCALENDAR