BEGIN:VCALENDAR
METHOD:PUBLISH
PRODID:-//Weblication CMS
VERSION:2.0
BEGIN:VEVENT
SUMMARY:Ökumenisches Abengebet
DTSTART:20260730T190000
DESCRIPTION:
LOCATION:Kirche Lüsslingen
UID:https://kirche-arch.ch/de/veranstaltungen/termine/2026.07.30-abendgebet.php?uid=8c230d6d29c2c4a6d891c903069aec1e
URL:https://kirche-arch.ch/de/veranstaltungen/termine/2026.07.30-abendgebet.php
END:VEVENT
END:VCALENDAR