BEGIN:VCALENDAR
METHOD:PUBLISH
PRODID:-//Weblication CMS
VERSION:2.0
BEGIN:VEVENT
SUMMARY:Gottesdienst Arch,Leuzigen
DTSTART:20260719T103000
DESCRIPTION:mit anschließendem Grillieren Lumina
LOCATION:Hornusserplatz Arch
UID:https://kirche-arch.ch/de/veranstaltungen/termine/2026.07.19-gottesdienst.php?uid=c0cdc9680bf496b08799dd8c48664137
URL:https://kirche-arch.ch/de/veranstaltungen/termine/2026.07.19-gottesdienst.php
END:VEVENT
END:VCALENDAR