BEGIN:VCALENDAR
METHOD:PUBLISH
PRODID:-//Weblication CMS
VERSION:2.0
BEGIN:VEVENT
SUMMARY:Gottesdienst im Altersheim
DTSTART:20260716T150000
DESCRIPTION:
LOCATION:Altersheim Lueg is Land
UID:https://kirche-arch.ch/de/veranstaltungen/termine/2026.07.16-gottesdienst-altersheim.php?uid=7ce4fca9bfac5fafd95b4666c7d7247f
URL:https://kirche-arch.ch/de/veranstaltungen/termine/2026.07.16-gottesdienst-altersheim.php
END:VEVENT
END:VCALENDAR