BEGIN:VCALENDAR
METHOD:PUBLISH
PRODID:-//Weblication CMS
VERSION:2.0
BEGIN:VEVENT
SUMMARY:Gottesdienst Leuzigen
DTSTART:20260712T093000
DESCRIPTION:
LOCATION:Kirche Leuzigen
UID:https://kirche-arch.ch/de/veranstaltungen/termine/2026.07.12-gottesdienst.php?uid=724e65e1de79ad3335e315a20462408d
URL:https://kirche-arch.ch/de/veranstaltungen/termine/2026.07.12-gottesdienst.php
END:VEVENT
END:VCALENDAR