BEGIN:VCALENDAR
METHOD:PUBLISH
PRODID:-//Weblication CMS
VERSION:2.0
BEGIN:VEVENT
SUMMARY:Ökumenisches Abendgebet
DTSTART:20260625T190000
DESCRIPTION:
LOCATION:Kirche Lüsslingen
UID:https://kirche-arch.ch/de/veranstaltungen/termine/2026.06.25-abendgebet.php?uid=db09ceb38abf70860aa2fe4dce65101e
URL:https://kirche-arch.ch/de/veranstaltungen/termine/2026.06.25-abendgebet.php
END:VEVENT
END:VCALENDAR