BEGIN:VCALENDAR
METHOD:PUBLISH
PRODID:-//Weblication CMS
VERSION:2.0
BEGIN:VEVENT
SUMMARY:Gottesdienst Arch
DTSTART:20260621T093000
DESCRIPTION:Anschließend Kirch Gemeinde Versammlung
LOCATION:Kirche Arch
UID:https://kirche-arch.ch/de/veranstaltungen/termine/2026.06.21-gottesdienst.php?uid=220dc77772a5364b0853bdc00ffb9716
URL:https://kirche-arch.ch/de/veranstaltungen/termine/2026.06.21-gottesdienst.php
END:VEVENT
END:VCALENDAR