BEGIN:VCALENDAR
METHOD:PUBLISH
PRODID:-//Weblication CMS
VERSION:2.0
BEGIN:VEVENT
SUMMARY:Gottesdienst Arch
DTSTART:20260607T093000
DESCRIPTION:Unser Vater KUW3 AL
LOCATION:Kirche Arch
UID:https://kirche-arch.ch/de/veranstaltungen/termine/2026.06.07-gottesdienst.php?uid=f27850f867356cc6bc79c10cf0d68a55
URL:https://kirche-arch.ch/de/veranstaltungen/termine/2026.06.07-gottesdienst.php
END:VEVENT
END:VCALENDAR