BEGIN:VCALENDAR
METHOD:PUBLISH
PRODID:-//Weblication CMS
VERSION:2.0
BEGIN:VEVENT
SUMMARY:Ökumenisches Abendgebet
DTSTART:20260528T190000
DESCRIPTION:
LOCATION:Kirche Leuzigen
UID:https://kirche-arch.ch/de/veranstaltungen/termine/2026.05.28-abendgebet.php?uid=c9034b82248c9dd1b7462e3457e53d38
URL:https://kirche-arch.ch/de/veranstaltungen/termine/2026.05.28-abendgebet.php
END:VEVENT
END:VCALENDAR