BEGIN:VCALENDAR
METHOD:PUBLISH
PRODID:-//Weblication CMS
VERSION:2.0
BEGIN:VEVENT
SUMMARY:Gottesdienst Arch
DTSTART:20260510T100000
DESCRIPTION:Konfirmation
LOCATION:Kirche Arch
UID:https://kirche-arch.ch/de/veranstaltungen/termine/2026.05.10-gottesdienst.php?uid=b9a7bed41625e5e9dbd1d19dd9c6ed5e
URL:https://kirche-arch.ch/de/veranstaltungen/termine/2026.05.10-gottesdienst.php
END:VEVENT
END:VCALENDAR