BEGIN:VCALENDAR
METHOD:PUBLISH
PRODID:-//Weblication CMS
VERSION:2.0
BEGIN:VEVENT
SUMMARY:Gottesdienst Leuzigen
DTSTART:20260426T093000
DESCRIPTION:
LOCATION:Kirche Leuzigen
UID:https://kirche-arch.ch/de/veranstaltungen/termine/2026.04.26-gottesdienst.php?uid=da79114a37cac9658b0699c7e9b9413b
URL:https://kirche-arch.ch/de/veranstaltungen/termine/2026.04.26-gottesdienst.php
END:VEVENT
END:VCALENDAR