BEGIN:VCALENDAR
METHOD:PUBLISH
PRODID:-//Weblication CMS
VERSION:2.0
BEGIN:VEVENT
SUMMARY:Gottesdienst Arch
DTSTART:20260419T093000
DESCRIPTION:Lego- Gottesdienst + Kirchenkaffee
LOCATION:Gemeindezentrum Arch
UID:https://kirche-arch.ch/de/veranstaltungen/termine/2026.04.19-gottesdienst.php?uid=54552aa00d1e2f6aac7687d1f3b1af34
URL:https://kirche-arch.ch/de/veranstaltungen/termine/2026.04.19-gottesdienst.php
END:VEVENT
END:VCALENDAR