BEGIN:VCALENDAR
METHOD:PUBLISH
PRODID:-//Weblication CMS
VERSION:2.0
BEGIN:VEVENT
SUMMARY:Gottesdienst im Altersheim
DTSTART:20260416T150000
DESCRIPTION:
LOCATION:Altersheim Lueg is Land
UID:https://kirche-arch.ch/de/veranstaltungen/termine/2026.04.16-gottesdienst-altersheim.php?uid=fede4aca17d6d409f816017efc2b8837
URL:https://kirche-arch.ch/de/veranstaltungen/termine/2026.04.16-gottesdienst-altersheim.php
END:VEVENT
END:VCALENDAR